BEGIN:VCALENDAR
VERSION:2.0
PRODID:-//eventon.com NONSGML v1.0//EN
BEGIN:VEVENT
UID:69e644d2533c6
DTSTAMP:20260420T172258
DTSTART:20201023T120000Z
DTEND:20201023T150000Z
LOCATION:Malteser Salzburg Imbergstraße 31A\,  5020 Salzburg
SUMMARY:Verkehrscoaching\,  Salzburg
DESCRIPTION: Das Tragen eines Mund- und Nasenschutzes ist verpflichtend! Das Verkehrscoaching ist ein vier-stündiger Kurs für alkoholauffällige Kraftfahrer im Promillebereich von 0\, 8-1\, 19 – und wird vom zuständigen Führerscheinreferat der Bezirkshauptmannschaft oder dem Verkehrsamt der Landespolizeidirektion angeordnet. Es ist keine Prüfung notwendig um eine Kursbestätigung zu erhalten. Vollständige Teilnahme und aktive Mitarbeit[..]
END:VEVENT
END:VCALENDAR