BEGIN:VCALENDAR
VERSION:2.0
PRODID:-//eventon.com NONSGML v1.0//EN
BEGIN:VEVENT
UID:69e4972a37248
DTSTAMP:20260419T104946
DTSTART:20211022T220000Z
DTEND:20211026T215900Z
LOCATION:Mariazell Mariazell Österreich
SUMMARY:MALTESER Wallfahrt nach Mariazell
DESCRIPTION: Alle Wege führen nach ... ... Mariazell MALTESER Bundeswallfahrt 2021 Spiritualität - Freu(n)de - Gemeinschaft 23. bis 26. Oktober 2021 Für Teilnehmer mit Corona-Impfung aus ganz Österreich. Personen mit Betreuungsbedarf sind herzlich willkommen! Anreise per Bus Kosten: EUR 300\, -- pro Person Bei Interesse melden Sie sich bitte unter zentrale@malteser.at
END:VEVENT
END:VCALENDAR