BEGIN:VCALENDAR
VERSION:2.0
PRODID:-//eventon.com NONSGML v1.0//EN
BEGIN:VEVENT
UID:69e97b6e9a654
DTSTAMP:20260423T035246
DTSTART:20221021T220000Z
DTEND:20221029T215900Z
LOCATION:Rom Rom Italien
SUMMARY:MALTESER Pilgerfahrt nach Rom 2022
DESCRIPTION: [vc_row][vc_column][vc_column_text]Alle Wege führen nach ... ... ROM MALTESER Pilgerfahrt nach Rom 2022 Spiritualität - Freu(n)de - Gemeinschaft 22. Oktober bis 29. Oktober 2022 Die MALTESER veranstalten alle fünf Jahre eine Pilgerreise für rund 500 Pilger nach Rom. Durch unsere langjährige Erfahrung und unsere profunde\,  facettenreiche Ausbildung für die Betreuung behinderter[..]
END:VEVENT
END:VCALENDAR