BEGIN:VCALENDAR
VERSION:2.0
PRODID:-//eventon.com NONSGML v1.0//EN
BEGIN:VEVENT
UID:69ecf47186301
DTSTAMP:20260425T190553
DTSTART:20230503T220000Z
DTEND:20230508T215900Z
LOCATION:Lourdes Sanctuaire Notre-Dame de Lourdes
SUMMARY:MALTESER Pilgerfahrt nach Lourdes 2023
DESCRIPTION: [vc_row][vc_column][vc_column_text] Lourdes Wallfahrt „Die Gnaden eines besonderen Ortes“ Die MALTESER organisieren jedes Jahr Anfang Mai eine Pilgerfahrt nach Lourdes für rund 250 Personen. Das Miteinander von Pilgern\,  darunter zahlreiche betreuungsbedürftige Personen\,  und MALTESERN sowie die Gnaden des beliebten südfranzösischen Wallfahrtsortes machen diese Wallfahrt zu einem einzigartigen Erlebnis. Mit der Lourdes-Reise[..]
END:VEVENT
END:VCALENDAR