BEGIN:VCALENDAR
VERSION:2.0
PRODID:-//eventon.com NONSGML v1.0//EN
BEGIN:VEVENT
UID:69ea72c111269
DTSTAMP:20260423T212801
DTSTART:20231002T163000Z
DTEND:20231002T190000Z
LOCATION:MALTESER Tirol Leopoldstraße 41\,  6020 Innsbruck
SUMMARY:Informationsabend Ausbildung\,  Tirol/Vorarlberg Oktober 2023
DESCRIPTION: [vc_row][vc_column][vc_column_text] 2. Oktober 2023 – Informationsabend Ausbildung Malteser – Tirol/Vorarlberg Es ist wieder soweit! Mit September beginnt nicht nur ein neues Universitätsjahr\,  sondern auch ein weiteres Malteser Ausbildungsjahr! Wer sind die MALTESER? Bei den Maltesern heißt es Miteinander füreinander. Wir betreuen mit Deiner Hilfe kranke\,  ältere und bedürftige Menschen. Zusätzlich[..]
END:VEVENT
END:VCALENDAR