BEGIN:VCALENDAR
VERSION:2.0
PRODID:-//eventon.com NONSGML v1.0//EN
BEGIN:VEVENT
UID:69e49c317ecd3
DTSTAMP:20260419T111113
DTSTART:20190412T110000Z
DTEND:20190412T153000Z
LOCATION:Wiener Blutspendezentrale Wiedner Hauptstraße 32\,  1040 Wien
SUMMARY:Malteser Blutspendeaktion\,  Burgenland
DESCRIPTION: „MALTESER-BLUTSPENDE-AKTION“: Freitag\,  12. April 2019\,  von 13:00 -17:30 Uhr in der Wiener Blutspendezentrale\,  Wiedner Hauptstraße 32 Anschließend gibt`s Würstel und Mannerschnitten Vor der Spende bitte unbedingt Mittag essen und ausreichend trinken (1 Liter über den Tag verteilt wäre super). Nach der Spende ist körperliche Anstrengung und Sport zu vermeiden. HIER[..]
END:VEVENT
END:VCALENDAR