BEGIN:VCALENDAR
VERSION:2.0
PRODID:-//eventon.com NONSGML v1.0//EN
BEGIN:VEVENT
UID:69e9bba2ce8dd
DTSTAMP:20260423T082642
DTSTART:20190420T060000Z
DTEND:20190420T130000Z
LOCATION:Tirol/Vorarlberg Innsbruck\,  Österreich
SUMMARY:Besuch der Ostergräber\,  Tirol/Vorarlberg
DESCRIPTION: Besuch der Ostergräber und danach gemeinsames Mittagessen
END:VEVENT
END:VCALENDAR