BEGIN:VCALENDAR
VERSION:2.0
PRODID:-//eventon.com NONSGML v1.0//EN
BEGIN:VEVENT
UID:69ebcb51ea6d1
DTSTAMP:20260424T215809
DTSTART:20191011T220000Z
DTEND:20191013T215900Z
LOCATION:Graz Graz\,  Österreich
SUMMARY:Ambulanz Graz Marathon\,  Steiermark/Kärnten
DESCRIPTION: Die MALTESER werden wie jedes Jahr wieder eine Ambulanzstation beim Graz Marathon besetzen.
END:VEVENT
END:VCALENDAR