BEGIN:VCALENDAR
VERSION:2.0
PRODID:-//eventon.com NONSGML v1.0//EN
BEGIN:VEVENT
UID:69e49c0989da7
DTSTAMP:20260419T111033
DTSTART:20200301T160000Z
DTEND:20200301T173000Z
LOCATION:St. Michaelskirche Mozartplatz 2\,  5020 Salzburg
SUMMARY:Monatsmesse\,  Salzburg
DESCRIPTION: Der monatliche Fixpunkt der MALTESER in Salzburg\,  die perfekte Möglichkeit gemeinsam die Heilige Messe zu feiern und alles Neue zu erfahren.
END:VEVENT
END:VCALENDAR